BEGIN:VCALENDAR
VERSION:2.0
PRODID:-//hacksw/handcal//NONSGML v1.0//EN
BEGIN:VEVENT
UID:8d525cf239ef3b5b843af5216b35d40a
DTSTAMP:20260422T085037Z

DTSTART:20261218T000000
DTEND:20270106T235959
SUMMARY:Circolo - der Freiburger Weihnachts-Circus
DESCRIPTION:Ein festliches Zirkuserlebnis für die ganze Familie bietet der Freiburger Weihnachts-Circus Circolo. Freuen Sie sich auf ein internationales Spitzenprogramm mit preisgekrönten Artistinnen und Artisten, das die Veranstalterfamilie Mack mit viel Leidenschaft und Gespür für das Besondere zusammengestellt hat. Atemberaubende Akrobatik, poetische Bilder, irrwitzige Comedy und mitreißende Musik verschmelzen zu einem Fest für alle Sinne.\nFür alle, die von Silvester in besonderem Ambiente träumen: Feiern Sie unter der Zirkuskuppel des Circolos den Jahreswechsel 2026/27 und genießen Sie die Silvestergala des Freiburger Weihnachtszirkus.\nVorstellungen tägl. 15 und 19 Uhr,&nbsp;spielfrei am 23./24.12.2026 und am 01.01.2027

X-ALT-DESC;FMTTYPE=text/html:<!DOCTYPE HTML PUBLIC "-//W3C//DTD HTML 3.2//EN">\n<HTML>\n<HEAD>\n<META NAME="Generator" CONTENT="MS Exchange Server version 08.00.0681.000">\n<TITLE></TITLE>\n</HEAD>\n<BODY>\n<!-- Converted from text/rtf format -->\n\n<p><span>Ein festliches Zirkuserlebnis für die ganze Familie bietet der Freiburger Weihnachts-Circus Circolo. Freuen Sie sich auf ein internationales Spitzenprogramm mit preisgekrönten Artistinnen und Artisten, das die Veranstalterfamilie Mack mit viel Leidenschaft und Gespür für das Besondere zusammengestellt hat. Atemberaubende Akrobatik, poetische Bilder, irrwitzige Comedy und mitreißende Musik verschmelzen zu einem Fest für alle Sinne.</span></p><br /><p><span>Für alle, die von <strong>Silvester</strong> in besonderem Ambiente träumen: Feiern Sie unter der Zirkuskuppel des Circolos den Jahreswechsel 2026/27 und genießen Sie die Silvestergala des Freiburger Weihnachtszirkus.</span></p><br /><p><strong>Vorstellungen tägl. 15 und 19 Uhr,&nbsp;spielfrei am 23./24.12.2026 und am 01.01.2027</strong></p>\n\n</BODY>\n</HTML>

LOCATION:Messe Freiburg, 3, Hermann-Mitsch-Straße, Industriegebiet Nord, Brühl-Industriegebiet, Brühl, Freiburg im Breisgau, Baden-Württemberg, 79108, Deutschland
END:VEVENT

END:VCALENDAR
