BEGIN:VCALENDAR
VERSION:2.0
PRODID:-//hacksw/handcal//NONSGML v1.0//EN
BEGIN:VEVENT
UID:d0c9c02c1fec7720dabb71c4a7b570df
DTSTAMP:20260421T085453Z

DTSTART:20250511T110000
DTEND:20250511T110000
SUMMARY:Frühlingsfest auf dem Weltacker Freiburg
DESCRIPTION:Das Team vom Weltacker Freiburg lädt herzlich zur Saisoneröffnung ein. Neben Aktionen für Groß und Klein finden um 11 Uhr und um 14 Uhr Ackerführungen statt. Wir freuen uns über zahlreiche Gäste!

X-ALT-DESC;FMTTYPE=text/html:<!DOCTYPE HTML PUBLIC "-//W3C//DTD HTML 3.2//EN">\n<HTML>\n<HEAD>\n<META NAME="Generator" CONTENT="MS Exchange Server version 08.00.0681.000">\n<TITLE></TITLE>\n</HEAD>\n<BODY>\n<!-- Converted from text/rtf format -->\n\n<p>Das Team vom Weltacker Freiburg lädt herzlich zur Saisoneröffnung ein. Neben Aktionen für Groß und Klein finden um 11 Uhr und um 14 Uhr Ackerführungen statt. Wir freuen uns über zahlreiche Gäste!</p>\n\n</BODY>\n</HTML>

LOCATION:Mundenhofer Weg, Mundenhof, Freiburg im Breisgau, Baden-Württemberg, 79111, Deutschland
END:VEVENT

END:VCALENDAR
